BEGIN:VCALENDAR
VERSION:2.0
PRODID:DPCALENDAR
CALSCALE:GREGORIAN
BEGIN:VTIMEZONE
TZID:Europe/Berlin
X-MICROSOFT-CDO-TZID:4
BEGIN:STANDARD
DTSTART:20251026T010000
TZOFFSETFROM:+0200
TZOFFSETTO:+0100
TZNAME:CET
END:STANDARD
BEGIN:STANDARD
DTSTART:20261025T010000
TZOFFSETFROM:+0200
TZOFFSETTO:+0100
TZNAME:CET
END:STANDARD
BEGIN:DAYLIGHT
DTSTART:20260329T010000
TZOFFSETFROM:+0100
TZOFFSETTO:+0200
TZNAME:CEST
END:DAYLIGHT
END:VTIMEZONE
X-WR-TIMEZONE:Europe/Berlin
BEGIN:VEVENT
DTSTART;TZID=Europe/Berlin:20251023T080000
DTEND;TZID=Europe/Berlin:20251023T100000
UID:242AA525-080E-4401-B307-5B078A323125
SUMMARY:Testeintrag
CREATED:20251022T063043Z
DTSTAMP:20251022T063043Z
URL:https://foerderverein-ev-kirche-dilsberg.de/kalender/testeintrag
DESCRIPTION:Dies ist ein Test mit dem neuen Kalender
X-ALT-DESC;FMTTYPE=text/html:Dies ist ein Test mit dem neuen Kalender
LAST-MODIFIED:20251022T063747Z
SEQUENCE:424
X-ACCESS:1
X-HITS:38
X-COLOR:33cc61
X-SHOW-END-TIME:0
END:VEVENT
BEGIN:VEVENT
DTSTART;TZID=Europe/Berlin:20260214T120000
DTEND;TZID=Europe/Berlin:20260214T180000
UID:9FE4FDC3-D5B6-4F74-8621-A8512D0913CF
SUMMARY:Bewirtungsangebot beim Fastnachtsumzug in Neckargemünd durch den Förderverein 
CREATED:20251230T103147Z
DTSTAMP:20251230T103147Z
URL:https://foerderverein-ev-kirche-dilsberg.de/kalender/bewirtungsangebot-beim-fastnachtsumzug-in-neckargemuend-durch-den-foerderverein
LAST-MODIFIED:20251230T103223Z
SEQUENCE:36
X-ACCESS:1
X-HITS:447
X-COLOR:33cc61
X-SHOW-END-TIME:1
END:VEVENT
BEGIN:VEVENT
DTSTART;TZID=Europe/Berlin:20260313T190000
DTEND;TZID=Europe/Berlin:20260313T210000
UID:99540C83-0990-4D0F-ACFA-44C95DF11BF8
SUMMARY:Mitgliederversammlung 
CREATED:20251231T092007Z
DTSTAMP:20251231T092007Z
URL:https://foerderverein-ev-kirche-dilsberg.de/kalender/mitgliederversammlung
DESCRIPTION:Da uns das Gemeindehaus nicht mehr zur Verfügung steht, findet die Mitgliederversammlung im Vereinsraum der Graf von Lauffen-Halle in Dilsberg statt. \NDie Tagesordnung wird rechtzeitig noch bekannt gegeben\NDer Vorstand freut sich auf den Besucher zahlreicher Mitglieder und Freunde des Fördervereins. 
X-ALT-DESC;FMTTYPE=text/html:<p>Da uns das Gemeindehaus nicht mehr zur Verfügung steht, findet die Mitgliederversammlung im Vereinsraum der Graf von Lauffen-Halle in Dilsberg statt.&nbsp;</p><p>Die Tagesordnung wird rechtzeitig noch bekannt gegeben</p><p>Der Vorstand freut sich auf den Besucher zahlreicher Mitglieder und Freunde des Fördervereins.&nbsp;</p>
LAST-MODIFIED:20251231T092007Z
SEQUENCE:0
X-ACCESS:1
X-HITS:439
X-COLOR:33cc61
X-SHOW-END-TIME:1
END:VEVENT
BEGIN:VEVENT
DTSTART;TZID=Europe/Berlin:20260412T180000
DTEND;TZID=Europe/Berlin:20260412T200000
UID:87741B45-8FF0-4037-BDB4-CE21587FBDCF
SUMMARY:Ferrara Duo - Musik für Fagott und Gitarre
CREATED:20260331T140140Z
DTSTAMP:20260331T140140Z
URL:https://foerderverein-ev-kirche-dilsberg.de/kalender/ferrara-duo-musik-fuer-fagott-und-gitarre
DESCRIPTION:Das Ferrara Duo ist ein Duo für Fagott und Gitarre aus Mannheim, bestehend aus Annina Holland-Moritz und Stefan Conradi. Das Duo interpretiert Originalwerke und Bearbeitungen aus Barock, Klassik, Romantik bis hin zur Moderne.
X-ALT-DESC;FMTTYPE=text/html:Das&nbsp;Ferrara Duo&nbsp;ist ein&nbsp;Duo&nbsp;für&nbsp;Fagott&nbsp;und&nbsp;Gitarre&nbsp;aus&nbsp;Mannheim, bestehend aus Annina Holland-Moritz und Stefan Conradi. Das Duo interpretiert Originalwerke und Bearbeitungen aus&nbsp;Barock,&nbsp;Klassik,&nbsp;Romantik&nbsp;bis hin zur&nbsp;Moderne.
LAST-MODIFIED:20260331T140140Z
SEQUENCE:0
X-ACCESS:1
X-HITS:14
X-COLOR:33cc61
X-SHOW-END-TIME:0
END:VEVENT
BEGIN:VEVENT
DTSTART;TZID=Europe/Berlin:20260525T120000
DTEND;TZID=Europe/Berlin:20260525T170000
UID:81D39E7B-6EC7-4717-A891-2D1370FD8A04
SUMMARY:Saisoneröffnung KirchenCafé 
CREATED:20251231T093601Z
DTSTAMP:20251231T093601Z
URL:https://foerderverein-ev-kirche-dilsberg.de/kalender/saisoneroeffnung-kirchencafe
DESCRIPTION:Nach dem traditonellen Gottesdienst im Schloßgarten bewirtet der Förderverien die Gäste mit Weißwurst und Brezeln. Um 14.oo Uhr findet dann die offizielle Saisoneröffnung des KirchenCafés mit geladenen Gästen und Besuchern der Veranstaltung statt. Der Förderverein  hat sich gut vorbereitet und freut sich auf zahlreiche Besucher.
X-ALT-DESC;FMTTYPE=text/html:Nach dem traditonellen Gottesdienst im Schloßgarten bewirtet der Förderverien die Gäste mit Weißwurst und Brezeln. Um 14.oo Uhr findet dann die offizielle Saisoneröffnung des KirchenCafés mit geladenen Gästen und Besuchern der Veranstaltung statt. Der Förderverein&nbsp; hat sich gut vorbereitet und freut sich auf zahlreiche Besucher.
LAST-MODIFIED:20251231T093601Z
SEQUENCE:0
X-ACCESS:1
X-HITS:427
X-COLOR:33cc61
X-SHOW-END-TIME:1
END:VEVENT
BEGIN:VEVENT
DTSTART;TZID=Europe/Berlin:20260607T120000
DTEND;TZID=Europe/Berlin:20260607T170000
UID:9EE3632F-BF3C-489B-887C-DD0B8D03A229
SUMMARY:KirchenCafé auf der Kirchenterrasse
CREATED:20251231T093724Z
DTSTAMP:20251231T093724Z
URL:https://foerderverein-ev-kirche-dilsberg.de/kalender/kirchencafe-auf-der-kirchenterrasse
LAST-MODIFIED:20251231T093724Z
SEQUENCE:0
X-ACCESS:1
X-HITS:433
X-COLOR:33cc61
X-SHOW-END-TIME:1
END:VEVENT
BEGIN:VEVENT
DTSTART;TZID=Europe/Berlin:20260621T120000
DTEND;TZID=Europe/Berlin:20260621T170000
UID:594F7499-D894-4059-B6EE-B6F933917248
SUMMARY:KirchenCafé auf der Kirchenterrasse
CREATED:20251231T093829Z
DTSTAMP:20251231T093829Z
URL:https://foerderverein-ev-kirche-dilsberg.de/kalender/kirchencafe-auf-der-kirchenterrasse-2
LAST-MODIFIED:20251231T093829Z
SEQUENCE:0
X-ACCESS:1
X-HITS:415
X-COLOR:33cc61
X-SHOW-END-TIME:1
END:VEVENT
BEGIN:VEVENT
DTSTART;TZID=Europe/Berlin:20260705T120000
DTEND;TZID=Europe/Berlin:20260705T170000
UID:EEA2CE26-E9B2-4CC2-8CBF-F3343F0E6069
SUMMARY:KirchenCafé auf der Kirchenterrasse
CREATED:20251231T093920Z
DTSTAMP:20251231T093920Z
URL:https://foerderverein-ev-kirche-dilsberg.de/kalender/kirchencafe-auf-der-kirchenterrasse-3
LAST-MODIFIED:20251231T093920Z
SEQUENCE:0
X-ACCESS:1
X-HITS:425
X-COLOR:33cc61
X-SHOW-END-TIME:1
END:VEVENT
BEGIN:VEVENT
DTSTART;TZID=Europe/Berlin:20260719T120000
DTEND;TZID=Europe/Berlin:20260719T170000
UID:AA15EE88-975C-45A4-A147-DF7D6D57036F
SUMMARY:KirchenCafé auf der Kirchenterrasse
CREATED:20251231T094231Z
DTSTAMP:20251231T094231Z
URL:https://foerderverein-ev-kirche-dilsberg.de/kalender/kirchencafe-auf-der-kirchenterrasse-4
LAST-MODIFIED:20251231T094231Z
SEQUENCE:0
X-ACCESS:1
X-HITS:416
X-COLOR:33cc61
X-SHOW-END-TIME:1
END:VEVENT
BEGIN:VEVENT
DTSTART;TZID=Europe/Berlin:20260726T120000
DTEND;TZID=Europe/Berlin:20260726T170000
UID:34B70966-5652-4810-B76A-E183E2B55626
SUMMARY:KirchenCafé auf der Kirchenterrasse
CREATED:20251231T094330Z
DTSTAMP:20251231T094330Z
URL:https://foerderverein-ev-kirche-dilsberg.de/kalender/kirchencafe-auf-der-kirchenterrasse-5
LAST-MODIFIED:20251231T094330Z
SEQUENCE:0
X-ACCESS:1
X-HITS:422
X-COLOR:33cc61
X-SHOW-END-TIME:1
END:VEVENT
BEGIN:VEVENT
DTSTART;TZID=Europe/Berlin:20260802T120000
DTEND;TZID=Europe/Berlin:20260802T170000
UID:A02759B5-B0AC-42F7-9389-6C5714A1B79C
SUMMARY:KirchenCafé auf der Kirchenterrasse
CREATED:20251231T094413Z
DTSTAMP:20251231T094413Z
URL:https://foerderverein-ev-kirche-dilsberg.de/kalender/kirchencafe-auf-der-kirchenterrasse-6
LAST-MODIFIED:20251231T094413Z
SEQUENCE:0
X-ACCESS:1
X-HITS:428
X-COLOR:33cc61
X-SHOW-END-TIME:1
END:VEVENT
BEGIN:VEVENT
DTSTART;TZID=Europe/Berlin:20260816T120000
DTEND;TZID=Europe/Berlin:20260816T170000
UID:B5FD5CB5-8F10-4298-B0AB-B34692F5A68F
SUMMARY:KirchenCafé auf der Kirchenterrasse
CREATED:20251231T094452Z
DTSTAMP:20251231T094452Z
URL:https://foerderverein-ev-kirche-dilsberg.de/kalender/kirchencafe-auf-der-kirchenterrasse-7
LAST-MODIFIED:20251231T094452Z
SEQUENCE:0
X-ACCESS:1
X-HITS:417
X-COLOR:33cc61
X-SHOW-END-TIME:1
END:VEVENT
BEGIN:VEVENT
DTSTART;TZID=Europe/Berlin:20260830T120000
DTEND;TZID=Europe/Berlin:20260830T170000
UID:25094991-9079-4A6F-B04E-23468B91202D
SUMMARY:Apfeltag im Rahmen des KirchenCafés mit den Alphornbläsern
CREATED:20251231T094557Z
DTSTAMP:20251231T094557Z
URL:https://foerderverein-ev-kirche-dilsberg.de/kalender/apfeltag-im-rahmen-des-kirchencafes-mit-den-alphornblaesern
LAST-MODIFIED:20251231T094557Z
SEQUENCE:0
X-ACCESS:1
X-HITS:425
X-COLOR:33cc61
X-SHOW-END-TIME:1
END:VEVENT
BEGIN:VEVENT
DTSTART;TZID=Europe/Berlin:20261004T120000
DTEND;TZID=Europe/Berlin:20261004T170000
UID:091B62A3-8357-416A-B686-5328761B14E7
SUMMARY:Erntedankfest im Rahmen des KirchenCafés nach dem Gottesdienst
CREATED:20251231T094719Z
DTSTAMP:20251231T094719Z
URL:https://foerderverein-ev-kirche-dilsberg.de/kalender/erntedankfest-im-rahmen-des-kirchencafes-nach-dem-gottesdienst
LAST-MODIFIED:20251231T094719Z
SEQUENCE:0
X-ACCESS:1
X-HITS:417
X-COLOR:33cc61
X-SHOW-END-TIME:1
END:VEVENT
BEGIN:VEVENT
DTSTART;TZID=Europe/Berlin:20261018T100000
DTEND;TZID=Europe/Berlin:20261018T120000
UID:C958C1E1-1B0E-4230-97A0-DA775EA30643
SUMMARY:Sektbewirtung nach Jubelkonfirmation auf der Kirchenterrasse
CREATED:20251231T094815Z
DTSTAMP:20251231T094815Z
URL:https://foerderverein-ev-kirche-dilsberg.de/kalender/sektbewirtung-nach-jubelkonfirmation-auf-der-kirchenterrasse
LAST-MODIFIED:20251231T094815Z
SEQUENCE:0
X-ACCESS:1
X-HITS:431
X-COLOR:33cc61
X-SHOW-END-TIME:1
END:VEVENT
BEGIN:VEVENT
DTSTART;TZID=Europe/Berlin:20261206T190000
DTEND;TZID=Europe/Berlin:20261206T220000
UID:F165DE2C-733C-4B6C-8CDE-B9E8AAFE93F0
SUMMARY:Vorweihnachtliches Konzert Netzold mit anschl. Sektbewirtung in der Kirche
CREATED:20251231T094922Z
DTSTAMP:20251231T094922Z
URL:https://foerderverein-ev-kirche-dilsberg.de/kalender/vorweihnachtliches-konzert-netzold-mit-anschl-sektbewirtung-in-der-kirche
LAST-MODIFIED:20251231T094922Z
SEQUENCE:0
X-ACCESS:1
X-HITS:416
X-COLOR:33cc61
X-SHOW-END-TIME:1
END:VEVENT
BEGIN:VEVENT
DTSTART;TZID=Europe/Berlin:20261212T140000
DTEND;TZID=Europe/Berlin:20261212T220000
UID:44BDC604-83AB-4E37-8B85-D63CFEE3A2A9
SUMMARY:Dilsberger Weihnachtsmeile 
CREATED:20251231T095008Z
DTSTAMP:20251231T095008Z
URL:https://foerderverein-ev-kirche-dilsberg.de/kalender/dilsberger-weihnachtsmeile
LAST-MODIFIED:20251231T095008Z
SEQUENCE:0
X-ACCESS:1
X-HITS:422
X-COLOR:33cc61
X-SHOW-END-TIME:1
END:VEVENT
BEGIN:VEVENT
DTSTART;TZID=Europe/Berlin:20261213T110000
DTEND;TZID=Europe/Berlin:20261213T180000
UID:398FF9BB-37EB-4710-A77A-3267DF00675F
SUMMARY:Dilsberger Weihnachtsmeile auf dem Dorfplatz
CREATED:20251231T095101Z
DTSTAMP:20251231T095101Z
URL:https://foerderverein-ev-kirche-dilsberg.de/kalender/dilsberger-weihnachtsmeile-auf-dem-dorfplatz
LAST-MODIFIED:20251231T095101Z
SEQUENCE:0
X-ACCESS:1
X-HITS:431
X-COLOR:33cc61
X-SHOW-END-TIME:1
END:VEVENT
BEGIN:VEVENT
DTSTART;TZID=Europe/Berlin:20261220T183000
DTEND;TZID=Europe/Berlin:20261220T203000
UID:DFE474E2-ABE7-4D2A-B899-B8CE9FECB558
SUMMARY:Konzert der ChorYfeen in der Kirche mit anschl. Glühweinausschank
CREATED:20251231T095155Z
DTSTAMP:20251231T095155Z
URL:https://foerderverein-ev-kirche-dilsberg.de/kalender/konzert-der-choryfeen-in-der-kirche-mit-anschl-gluehweinausschank
LAST-MODIFIED:20251231T095155Z
SEQUENCE:0
X-ACCESS:1
X-HITS:405
X-COLOR:33cc61
X-SHOW-END-TIME:1
END:VEVENT
END:VCALENDAR